Workbook

Sheet Сводка
A1: Ведомость материалов и работ — квартира по плану
A2: Объёмы — из обмеров и проектов; цены — ввод на листах (жёлтые ячейки). Все суммы — формулы.
A3: Раздел | B3: Материалы, сом | C3: Работы, сом | D3: Итого, сом | E3: Доля
A4: Отделка | B4: ='Отделка'!H23 | C4: ='Отделка'!H24 | D4: =B4+C4 | E4: =IF($D$8=0,0,D4/$D$8)
A5: Электрика (проект с нуля) | B5: ='Электрика'!E25 | C5: ='Электрика'!E26 | D5: =B5+C5 | E5: =IF($D$8=0,0,D5/$D$8)
A6: Водопровод и канализация | B6: ='Сантехника'!E18 | C6: ='Сантехника'!E19 | D6: =B6+C6 | E6: =IF($D$8=0,0,D6/$D$8)
A7: Отопление (мероприятия) | B7: ='Отопление'!E9 | C7: ='Отопление'!E10 | D7: =B7+C7 | E7: =IF($D$8=0,0,D7/$D$8)
A8: ИТОГО | B8: =SUM(B4:B7) | C8: =SUM(C4:C7) | D8: =SUM(D4:D7)
A9: На 1 м² площади квартиры | D9: =D8/'Обмеры'!C10
A11: Цвета: синие — ввод; зелёные — ссылки на другие листы; чёрные — формулы; жёлтая заливка — цены, которые нужно сверить с поставщиками.

Sheet Нормы и цены
A1: Параметр | B1: Значение | C1: Ед. | D1: Источник / статус
A2: Стяжка: толщина | B2: 50 | C2: мм | D2: допущение (гофра с кабелем под стяжкой ≥50 мм — проект электрики)
A3: Стяжка: расход ЦПС на 1 мм | B3: 1.8 | C3: кг/м²·мм | D3: практика (≈18 кг/м² на 10 мм)
A4: Штукатурка гипсовая: слой | B4: 15 | C4: мм | D4: допущение (монолит/кладка, средний слой)
A5: Штукатурка: расход на 1 мм | B5: 0.85 | C5: кг/м²·мм | D5: практика (гипсовые смеси 8,5 кг/м² на 10 мм)
A6: Шпаклёвка финишная | B6: 1 | C6: кг/м² | D6: практика
A7: Грунтовка (2 слоя) | B7: 0.3 | C7: л/м² | D7: практика (0,15 л/м² на слой)
A8: Краска интерьерная (2 слоя) | B8: 0.3 | C8: л/м² | D8: практика (0,15 л/м² на слой)
A9: Плиточный клей | B9: 5 | C9: кг/м² | D9: практика (гребёнка 8 мм)
A10: Затирка | B10: 0.5 | C10: кг/м² | D10: практика
A11: Гидроизоляция санузла (2 слоя) | B11: 3 | C11: кг/м² | D11: практика; пол + 0,2 м на стены (СП: мокрые зоны)
A12: Запас плитки и ламината | B12: 1.1 | C12: коэф. | D12: практика (подрезка, бой)
A13: Кухонный фартук: высота | B13: 0.6 | C13: м | D13: практика
... A32: Работа: ламинат + плинтус | B32: 300 | C32: сом/м² | D32: оценка
A34: Синие значения — ввод. Жёлтые — цены, их нужно сверить с поставщиками Бишкека: открытых прайсов на отделку нет, указаны оценки.

Sheet Обмеры
A1: № | B1: Помещение | C1: Пол, м² | D1: Периметр, м | E1: Высота, м | F1: Проёмы (ширина дверей), м | G1: Стены брутто, м² | H1: Проёмы, м² | I1: Стены нетто, м² | J1: Пол: отделка | K1: Стены: отделка
A2: 1 | B2: Кладовая | C2: 1.27 | D2: 4.56 | E2: 2.7 | F2: 0.61 | G2: =D2*E2 | H2: 1.28 | I2: =G2-H2 | J2: ламинат | K2: покраска
A3: 2 | B3: Лоджия | C3: 3.64 | D3: 8.76 | E3: 2.7 | F3: 3.39 | G3: =D3*E3 | H3: 5.15 | I3: =G3-H3 | J3: плитка | K3: покраска
A4: 3 | B4: Кухня | C4: 18.95 | D4: 21.22 | E4: 2.7 | F4: 2.47 | G4: =D4*E4 | H4: 4.21 | I4: =G4-H4 | J4: плитка | K4: покраска
A5: 4 | B5: Комната | C5: 23.91 | D5: 20.52 | E5: 2.7 | F5: 3.03 | G5: =D5*E5 | H5: 5.23 | I5: =G5-H5 | J5: ламинат | K5: покраска
A6: 5 | B6: Прихожая | C6: 18.44 | D6: 27.3 | E6: 2.7 | F6: 5.79 | G6: =D6*E6 | H6: 12.29 | I6: =G6-H6 | J6: ламинат | K6: покраска
A7: 6 | B7: Комната | C7: 13.05 | D7: 14.52 | E7: 2.7 | F7: 2.98 | G7: =D7*E7 | H7: 5.13 | I7: =G7-H7 | J7: ламинат | K7: покраска
A8: 7 | B8: Туалет | C8: 2.09 | D8: 6.02 | E8: 2.7 | F8: 0.64 | G8: =D8*E8 | H8: 1.36 | I8: =G8-H8 | J8: плитка | K8: плитка
A9: 8 | B9: Ванная | C9: 3.03 | D9: 6.96 | E9: 2.7 | F9: 0.67 | G9: =D9*E9 | H9: 1.42 | I9: =G9-H9 | J9: плитка | K9: плитка
B10: Итого | C10: =SUM(C2:C9) | D10: =SUM(D2:D9) | G10: =SUM(G2:G9) | H10: =SUM(H2:H9) | I10: =SUM(I2:I9)
A12: Площади, периметры и высоты — автоматический обмер по плану квартиры (rooms.json). Тип отделки (жёлтые) можно менять: «плитка», «ламинат», «покраска».

Sheet Отделка
A1: Раздел | B1: Позиция | C1: Объём | D1: Ед. | E1: Количество к покупке | F1: Ед. покупки | G1: Цена, сом | H1: Сумма, сом | I1: Как посчитано
A2: Материалы | B2: Стяжка пола (ЦПС) | C2: =SUM('Обмеры'!$C$2:$C$9) | D2: м² | E2: =ROUNDUP(C2*'Нормы и цены'!$B$2*'Нормы и цены'!$B$3/40,0) | F2: мешок 40 кг | G2: ='Нормы и цены'!$B$14 | H2: =E2*G2 | I2: площадь всех полов × толщина × расход
A3: Материалы | B3: Штукатурка гипсовая стен | C3: =SUMIFS('Обмеры'!$I$2:$I$9,'Обмеры'!$K$2:$K$9,"покраска")+SUMIFS('Обмеры'!$I$2:$I$9,'Обмеры'!$K$2:$K$9,"плитка") | D3: м² | E3: =ROUNDUP(C3*'Нормы и цены'!$B$4*'Нормы и цены'!$B$5/30,0) | F3: мешок 30 кг | G3: ='Нормы и цены'!$B$15 | H3: =E3*G3 | I3: стены нетто всех помещений
A4: Материалы | B4: Грунтовка | C4: =SUMIFS('Обмеры'!$I$2:$I$9,'Обмеры'!$K$2:$K$9,"покраска")+SUMIFS('Обмеры'!$I$2:$I$9,'Обмеры'!$K$2:$K$9,"плитка") | D4: м² | E4: =ROUNDUP(C4*'Нормы и цены'!$B$7/10,0) | F4: канистра 10 л | G4: ='Нормы и цены'!$B$17 | H4: =E4*G4 | I4: стены нетто, 2 слоя
A5: Материалы | B5: Шпаклёвка финишная | C5: =SUMIFS('Обмеры'!$I$2:$I$9,'Обмеры'!$K$2:$K$9,"покраска") | D5: м² | E5: =ROUNDUP(C5*'Нормы и цены'!$B$6/20,0) | F5: мешок 20 кг | G5: ='Нормы и цены'!$B$16 | H5: =E5*G5 | I5: стены под покраску
A6: Материалы | B6: Краска интерьерная | C6: =SUMIFS('Обмеры'!$I$2:$I$9,'Обмеры'!$K$2:$K$9,"покраска") | D6: м² | E6: =ROUNDUP(C6*'Нормы и цены'!$B$8/10,0) | F6: ведро 10 л | G6: ='Нормы и цены'!$B$18 | H6: =E6*G6 | I6: стены под покраску, 2 слоя (потолки — натяжные)
A7: Материалы | B7: Плитка стен (санузел) | C7: =SUMIFS('Обмеры'!$I$2:$I$9,'Обмеры'!$K$2:$K$9,"плитка") | D7: м² | E7: =ROUND(C7*'Нормы и цены'!$B$12,1) | F7: м² | G7: ='Нормы и цены'!$B$19 | H7: =E7*G7 | I7: стены с отделкой «плитка» + 10 %
A8: Материалы | B8: Плитка кухонного фартука | C8: =2.04*'Нормы и цены'!$B$13 | D8: м² | E8: =ROUND(C8*'Нормы и цены'!$B$12,1) | F8: м² | G8: ='Нормы и цены'!$B$19 | H8: =E8*G8 | I8: длина столешницы 2.04 м (layout.json) × высота фартука
A9: Материалы | B9: Плитка пола | C9: =SUMIFS('Обмеры'!$C$2:$C$9,'Обмеры'!$J$2:$J$9,"плитка") | D9: м² | E9: =ROUND(C9*'Нормы и цены'!$B$12,1) | F9: м² | G9: ='Нормы и цены'!$B$19 | H9: =E9*G9 | I9: полы с отделкой «плитка» + 10 %
A10: Материалы | B10: Клей плиточный | C10: =C7+C8+C9 | D10: м² | E10: =ROUNDUP(C10*'Нормы и цены'!$B$9/25,0) | F10: мешок 25 кг | G10: ='Нормы и цены'!$B$20 | H10: =E10*G10 | I10: вся плитка
A11: Материалы | B11: Затирка | C11: =C7+C8+C9 | D11: м² | E11: =ROUNDUP(C11*'Нормы и цены'!$B$10/2,0) | F11: упак. 2 кг | G11: ='Нормы и цены'!$B$21 | H11: =E11*G11 | I11: вся плитка
A12: Материалы | B12: Гидроизоляция санузла | C12: ='Обмеры'!C9+0.2*'Обмеры'!D9 | D12: м² | E12: =ROUNDUP(C12*'Нормы и цены'!$B$11/15,0) | F12: ведро 15 кг | G12: ='Нормы и цены'!$B$22 | H12: =E12*G12 | I12: пол санузла + полоса 0,2 м по периметру
A13: Материалы | B13: Ламинат | C13: =SUMIFS('Обмеры'!$C$2:$C$9,'Обмеры'!$J$2:$J$9,"ламинат") | D13: м² | E13: =ROUND(C13*'Нормы и цены'!$B$12,1) | F13: м² | G13: ='Нормы и цены'!$B$23 | H13: =E13*G13 | I13: полы с отделкой «ламинат» + 10 %
A14: Материалы | B14: Подложка под ламинат | C14: =SUMIFS('Обмеры'!$C$2:$C$9,'Обмеры'!$J$2:$J$9,"ламинат") | D14: м² | E14: =ROUND(C14*'Нормы и цены'!$B$12,1) | F14: м² | G14: ='Нормы и цены'!$B$24 | H14: =E14*G14
A15: Материалы | B15: Плинтус | C15: =(SUMIFS('Обмеры'!$D$2:$D$9,'Обмеры'!$J$2:$J$9,"ламинат")-SUMIFS('Обмеры'!$F$2:$F$9,'Обмеры'!$J$2:$J$9,"ламинат")) | D15: м | E15: =ROUND(C15*'Нормы и цены'!$B$12,1) | F15: м | G15: ='Нормы и цены'!$B$25 | H15: =E15*G15 | I15: периметр комнат с ламинатом минус двери
A16: Работы | B16: Натяжные потолки (с монтажом) | C16: =SUM('Обмеры'!$C$2:$C$9) | D16: м² | E16: =C16 | F16: м² | G16: ='Нормы и цены'!$B$26 | H16: =E16*G16 | I16: все помещения (проект электрики рассчитан на натяжные потолки)
A17: Работы | B17: Стяжка пола | C17: =SUM('Обмеры'!$C$2:$C$9) | D17: м² | E17: =C17 | F17: м² | G17: ='Нормы и цены'!$B$27 | H17: =E17*G17
A18: Работы | B18: Штукатурка стен | C18: =C3 | D18: м² | E18: =C18 | F18: м² | G18: ='Нормы и цены'!$B$28 | H18: =E18*G18
A19: Работы | B19: Шпаклёвка и покраска стен | C19: =C5 | D19: м² | E19: =C19 | F19: м² | G19: ='Нормы и цены'!$B$29 | H19: =E19*G19
A20: Работы | B20: Укладка плитки | C20: =C10 | D20: м² | E20: =C20 | F20: м² | G20: ='Нормы и цены'!$B$30 | H20: =E20*G20
A21: Работы | B21: Гидроизоляция | C21: =C12 | D21: м² | E21: =C21 | F21: м² | G21: ='Нормы и цены'!$B$31 | H21: =E21*G21
A22: Работы | B22: Ламинат и плинтус | C22: =C13 | D22: м² | E22: =C22 | F22: м² | G22: ='Нормы и цены'!$B$32 | H22: =E22*G22
B23: Итого материалы | H23: =SUMIFS(H2:H22,A2:A22,"Материалы")
B24: Итого работы | H24: =SUMIFS(H2:H22,A2:A22,"Работы")
B25: Итого отделка | H25: =H23+H24

Sheet Электрика
A1: Раздел | B1: Позиция | C1: Количество | D1: Цена, сом | E1: Сумма, сом
A2: Материалы | B2: Кабель ВВГнг(А)-LS 3×1,5, м | C2: 118 | D2: 76 | E2: =C2*D2
A3: Материалы | B3: Кабель ВВГнг(А)-LS 3×2,5, м | C3: 174 | D3: 138 | E3: =C3*D3
A4: Материалы | B4: Кабель ВВГнг(А)-LS 3×6, м | C4: 13 | D4: 310 | E4: =C4*D4
A5: Материалы | B5: Гофра ПВХ/ПНД 20 мм, м | C5: 219 | D5: 15 | E5: =C5*D5
A6: Материалы | B6: Подрозетники, шт | C6: 31 | D6: 20 | E6: =C6*D6
A7: Материалы | B7: Розетки с заземлением и шторками (ПУЭ 7.1.49), шт | C7: 36 | D7: 250 | E7: =C7*D7
A8: Материалы | B8: Выключатели, шт | C8: 7 | D8: 220 | E8: =C8*D8
A9: Материалы | B9: Дифавтоматы 30 мА до 16 А, шт | C9: 6 | D9: 998 | E9: =C9*D9
A10: Материалы | B10: Дифавтомат 32 А 100 мА, тип A (плита), шт | C10: 1 | D10: 1800 | E10: =C10*D10
A11: Материалы | B11: Вводной выключатель нагрузки 2P 63 А, шт | C11: 1 | D11: 1500 | E11: =C11*D11
A12: Материалы | B12: Щит квартирный встраиваемый 24 мод. (корпус + шины), шт | C12: 1 | D12: 2880 | E12: =C12*D12
A13: Работы | B13: Штробление: штроба горизонтальная, перегородки, м | C13: 0.1 | D13: 350 | E13: =C13*D13
... A24: Работы | B24: Сборка щита, модулей | C24: 16 | D24: 120 | E24: =C24*D24
B25: Итого материалы | E25: =SUMIFS(E2:E24,A2:A24,"Материалы")
B26: Итого работы | E26: =SUMIFS(E2:E24,A2:A24,"Работы")
B27: Итого | E27: =E25+E26
A29: Проект электрики с нуля, вариант C: Оптимальный: штробы в перегородках, потолок и пол — где дешевле. Количества — из расчёта трасс (elec/design/design.json); цены — бишкекские прайсы «от» и оценки (tools/design_rules.json).

Sheet Сантехника
A1: Раздел | B1: Позиция | C1: Количество | D1: Цена, сом | E1: Сумма, сом
A2: Материалы | B2: Труба PP-R PN20 Ø20 (ХВС/ГВС), м | C2: 38 | D2: 65 | E2: =C2*D2
A3: Материалы | B3: Гофра/гильза для труб в стяжке, м | C3: 38 | D3: 20 | E3: =C3*D3
A4: Материалы | B4: Фитинги PP-R (углы, переходы), шт | C4: 30 | D4: 40 | E4: =C4*D4
A5: Материалы | B5: Водорозетки (выводы под приборы), шт | C5: 10 | D5: 180 | E5: =C5*D5
A6: Материалы | B6: Коллекторы ХВС и ГВС с кранами, шт | C6: 4 | D6: 2500 | E6: =C6*D6
A7: Материалы | B7: Узлы ввода ХВС и ГВС (кран, фильтр, счётчик, обратный клапан), шт | C7: 4 | D7: 4500 | E7: =C7*D7
A8: Материалы | B8: Регулятор давления (если давление > 0,45 МПа), шт | C8: 4 | D8: 2500 | E8: =C8*D8
A9: Материалы | B9: Труба канализационная PP Ø50, м | C9: 14.9 | D9: 120 | E9: =C9*D9
A10: Материалы | B10: Труба канализационная PP Ø110, м | C10: 2.6 | D10: 300 | E10: =C10*D10
A11: Материалы | B11: Фитинги Ø50 (отводы, тройники), шт | C11: 18 | D11: 90 | E11: =C11*D11
A12: Материалы | B12: Фитинги Ø110, шт | C12: 6 | D12: 250 | E12: =C12*D12
A13: Работы | B13: Выводы воды под приборы, шт | C13: 10 | D13: 1200 | E13: =C13*D13
... A17: Работы | B17: Монтаж узла ввода и коллекторов, компл. | C17: 2 | D17: 3000 | E17: =C17*D17
B18: Итого материалы | E18: =SUMIFS(E2:E17,A2:A17,"Материалы")
B19: Итого работы | E19: =SUMIFS(E2:E17,A2:A17,"Работы")
B20: Итого | E20: =E18+E19
A22: Проект водопровода и канализации (plumb/plumb.json). Цены — оценка: бишкекские прайсы на сантехнику не публикуются (tools/plumb_rules.json).

Sheet Отопление
A1: Раздел | B1: Позиция | C1: Количество | D1: Цена, сом | E1: Сумма, сом
A2: Материалы | B2: Полотенцесушитель водяной, шт — Ванная | C2: 1 | D2: 6000 | E2: =C2*D2
A3: Материалы | B3: Секции радиатора 500 мм, шт — Кухня | C3: 5 | D3: 900 | E3: =C3*D3
A4: Материалы | B4: Секции радиатора 500 мм, шт — Комната | C4: 13 | D4: 900 | E4: =C4*D4
A5: Материалы | B5: Комплект ТРВ (термоголовка + клапан + запорный), шт — все радиаторы | C5: 3 | D5: 2500 | E5: =C5*D5
A6: Работы | B6: Работа: монтаж — Ванная | C6: 1 | D6: 2500 | E6: =C6*D6
A7: Работы | B7: Работа: монтаж радиатора с обвязкой — Кухня | C7: 1 | D7: 2500 | E7: =C7*D7
A8: Работы | B8: Работа: монтаж радиатора с обвязкой — Комната | C8: 2 | D8: 2500 | E8: =C8*D8
B9: Итого материалы | E9: =SUMIFS(E2:E8,A2:A8,"Материалы")
B10: Итого работы | E10: =SUMIFS(E2:E8,A2:A8,"Работы")
B11: Итого | E11: =E9+E10
A13: Мероприятия по отоплению (heat/heat.json): добор секций, полотенцесушитель, терморегуляторы. Цены — оценка (tools/heat_rules.json).

Sheet Источники
A1: Что | B1: Откуда
A2: Обмеры | B2: Автоматический обмер по плану квартиры (tools/plan2model.py → plan.py → rooms.json)
A3: Электрика | B3: tools/design_rules.json: ПУЭ-7 гл. 7.1, СП 31-110-2003; цены — mtt.kg, 220city.kg, elmaster.kg
A4: Сантехника | B4: tools/plumb_rules.json: СНиП 2.04.01-85*, СП 30.13330.2020, ПУЭ 2.1.56–57; цены — оценка
A5: Отопление | B5: tools/heat_rules.json: СНиП 23-01-99 (Бишкек −23 °C), СНиП 23-02/СП 50, ГОСТ 30494, СП 54; тариф 1560 сом/Гкал
A6: Отделка | B6: Расходы — типовые (практика); цены — оценка, сверить с поставщиками Бишкека
